BEGIN:VCALENDAR
VERSION:2.0
PRODID:-//92.205.5.224//NONSGML kigkonsult.se iCalcreator 2.20//
CALSCALE:GREGORIAN
METHOD:PUBLISH
X-WR-TIMEZONE:UTC
BEGIN:VEVENT
UID:event270@PTS Vöcklamarkt - Allgemeinbildung | Berufsorientierung | Pers
 önlichkeitsbildung
DTSTAMP:20260421T095855Z
CATEGORIES:Schulveranstaltung
DESCRIPTION:1. BPW (Berufspraktische Woche)\nCategory: Schulveranstaltung\n
 Link: https://pts-voecklamarkt.at/index.php?option=com_jem&view=event&id=2
 70:1-bpw\n
DTSTART;VALUE=DATE:20251110
DTEND;VALUE=DATE:20251115
SUMMARY:1. BPW (Berufspraktische Woche)
URL:https://pts-voecklamarkt.at/index.php?option=com_jem&view=event&id=270:
 1-bpw
END:VEVENT
END:VCALENDAR
